BEGIN:VCALENDAR
VERSION:2.0
PRODID:-//Tone Fish - ECPv6.15.20//NONSGML v1.0//EN
CALSCALE:GREGORIAN
METHOD:PUBLISH
X-ORIGINAL-URL:https://www.tone-fish.de
X-WR-CALDESC:Veranstaltungen für Tone Fish
REFRESH-INTERVAL;VALUE=DURATION:PT1H
X-Robots-Tag:noindex
X-PUBLISHED-TTL:PT1H
BEGIN:VTIMEZONE
TZID:Europe/Berlin
BEGIN:DAYLIGHT
TZOFFSETFROM:+0100
TZOFFSETTO:+0200
TZNAME:CEST
DTSTART:20250330T010000
END:DAYLIGHT
BEGIN:STANDARD
TZOFFSETFROM:+0200
TZOFFSETTO:+0100
TZNAME:CET
DTSTART:20251026T010000
END:STANDARD
BEGIN:DAYLIGHT
TZOFFSETFROM:+0100
TZOFFSETTO:+0200
TZNAME:CEST
DTSTART:20260329T010000
END:DAYLIGHT
BEGIN:STANDARD
TZOFFSETFROM:+0200
TZOFFSETTO:+0100
TZNAME:CET
DTSTART:20261025T010000
END:STANDARD
BEGIN:DAYLIGHT
TZOFFSETFROM:+0100
TZOFFSETTO:+0200
TZNAME:CEST
DTSTART:20270328T010000
END:DAYLIGHT
BEGIN:STANDARD
TZOFFSETFROM:+0200
TZOFFSETTO:+0100
TZNAME:CET
DTSTART:20271031T010000
END:STANDARD
BEGIN:DAYLIGHT
TZOFFSETFROM:+0100
TZOFFSETTO:+0200
TZNAME:CEST
DTSTART:20280326T010000
END:DAYLIGHT
BEGIN:STANDARD
TZOFFSETFROM:+0200
TZOFFSETTO:+0100
TZNAME:CET
DTSTART:20281029T010000
END:STANDARD
END:VTIMEZONE
BEGIN:VEVENT
DTSTART;TZID=Europe/Berlin:20261009T200000
DTEND;TZID=Europe/Berlin:20261009T220000
DTSTAMP:20260422T165704
CREATED:20250709T085122Z
LAST-MODIFIED:20250709T085122Z
UID:2194-1791576000-1791583200@www.tone-fish.de
SUMMARY:Tone Irish Night Fish/The Pilgrim's Tour - Kultbahnhof Gifhorn
DESCRIPTION:
URL:https://www.tone-fish.de/show/tone-irish-night-fish-the-pilgrims-tour-kultbahnhof-gifhorn/
CATEGORIES:Irish Night
END:VEVENT
BEGIN:VEVENT
DTSTART;TZID=Europe/Berlin:20261017T190000
DTEND;TZID=Europe/Berlin:20261017T220000
DTSTAMP:20260422T165704
CREATED:20260416T092447Z
LAST-MODIFIED:20260416T092447Z
UID:2608-1792263600-1792274400@www.tone-fish.de
SUMMARY:Irish Night mit Tone Fish - Marl Brassert
DESCRIPTION:
URL:https://www.tone-fish.de/show/irish-night-mit-tone-fish-marl-brassert/
CATEGORIES:Irish Night
END:VEVENT
BEGIN:VEVENT
DTSTART;TZID=Europe/Berlin:20270130T200000
DTEND;TZID=Europe/Berlin:20270130T230000
DTSTAMP:20260422T165704
CREATED:20260416T092708Z
LAST-MODIFIED:20260416T092708Z
UID:2611-1801339200-1801350000@www.tone-fish.de
SUMMARY:Irish Folk Festival - Wernigerode
DESCRIPTION:
URL:https://www.tone-fish.de/show/irish-folk-festival-wernigerode/
END:VEVENT
BEGIN:VEVENT
DTSTART;TZID=Europe/Berlin:20270207T190000
DTEND;TZID=Europe/Berlin:20270207T210000
DTSTAMP:20260422T165704
CREATED:20260416T092850Z
LAST-MODIFIED:20260416T092850Z
UID:2615-1802026800-1802034000@www.tone-fish.de
SUMMARY:Irish Night mit Tone Fish -Brunsbüttel
DESCRIPTION:
URL:https://www.tone-fish.de/show/irish-night-mit-tone-fish-brunsbuettel/
END:VEVENT
BEGIN:VEVENT
DTSTART;TZID=Europe/Berlin:20270227T200000
DTEND;TZID=Europe/Berlin:20270227T220000
DTSTAMP:20260422T165704
CREATED:20250827T122004Z
LAST-MODIFIED:20250827T122004Z
UID:2277-1803758400-1803765600@www.tone-fish.de
SUMMARY:Irish Night mit Tone Fish  -Ennigerloh
DESCRIPTION:
URL:https://www.tone-fish.de/show/irish-night-mit-tone-fish-ennigerloh/
CATEGORIES:Irish Night
END:VEVENT
BEGIN:VEVENT
DTSTART;TZID=Europe/Berlin:20270416T193000
DTEND;TZID=Europe/Berlin:20270416T210000
DTSTAMP:20260422T165704
CREATED:20250827T122130Z
LAST-MODIFIED:20250827T122130Z
UID:2280-1807903800-1807909200@www.tone-fish.de
SUMMARY:Die Liedermacher-Tour - Wader\, Mey & Co. - Lastrup
DESCRIPTION:
URL:https://www.tone-fish.de/show/die-liedermacher-tour-wader-mey-co-lastrup/
CATEGORIES:Liedermacher-Tour
END:VEVENT
BEGIN:VEVENT
DTSTART;TZID=Europe/Berlin:20270423T200000
DTEND;TZID=Europe/Berlin:20270423T220000
DTSTAMP:20260422T165704
CREATED:20260416T093030Z
LAST-MODIFIED:20260416T093030Z
UID:2618-1808510400-1808517600@www.tone-fish.de
SUMMARY:Irish Night mit Tone Fish - Hemmingen
DESCRIPTION:
URL:https://www.tone-fish.de/show/irish-night-mit-tone-fish-hemmingen/
CATEGORIES:Irish Night
END:VEVENT
BEGIN:VEVENT
DTSTART;TZID=Europe/Berlin:20270612T190000
DTEND;TZID=Europe/Berlin:20270612T210000
DTSTAMP:20260422T165704
CREATED:20260416T085138Z
LAST-MODIFIED:20260416T085217Z
UID:2567-1812826800-1812834000@www.tone-fish.de
SUMMARY:Irish Night mit Tone Fish - Erlöserkirche Marl Brassert
DESCRIPTION:
URL:https://www.tone-fish.de/show/irish-night-mit-tone-fish-erloeserkirche-marl-brassert/
END:VEVENT
END:VCALENDAR