BEGIN:VCALENDAR
VERSION:2.0
PRODID:-//Tone Fish - ECPv6.15.20//NONSGML v1.0//EN
CALSCALE:GREGORIAN
METHOD:PUBLISH
X-WR-CALNAME:Tone Fish
X-ORIGINAL-URL:https://www.tone-fish.de
X-WR-CALDESC:Veranstaltungen für Tone Fish
REFRESH-INTERVAL;VALUE=DURATION:PT1H
X-Robots-Tag:noindex
X-PUBLISHED-TTL:PT1H
BEGIN:VTIMEZONE
TZID:Europe/Berlin
BEGIN:DAYLIGHT
TZOFFSETFROM:+0100
TZOFFSETTO:+0200
TZNAME:CEST
DTSTART:20240331T010000
END:DAYLIGHT
BEGIN:STANDARD
TZOFFSETFROM:+0200
TZOFFSETTO:+0100
TZNAME:CET
DTSTART:20241027T010000
END:STANDARD
BEGIN:DAYLIGHT
TZOFFSETFROM:+0100
TZOFFSETTO:+0200
TZNAME:CEST
DTSTART:20250330T010000
END:DAYLIGHT
BEGIN:STANDARD
TZOFFSETFROM:+0200
TZOFFSETTO:+0100
TZNAME:CET
DTSTART:20251026T010000
END:STANDARD
BEGIN:DAYLIGHT
TZOFFSETFROM:+0100
TZOFFSETTO:+0200
TZNAME:CEST
DTSTART:20260329T010000
END:DAYLIGHT
BEGIN:STANDARD
TZOFFSETFROM:+0200
TZOFFSETTO:+0100
TZNAME:CET
DTSTART:20261025T010000
END:STANDARD
END:VTIMEZONE
BEGIN:VEVENT
DTSTART;TZID=Europe/Berlin:20251122T200000
DTEND;TZID=Europe/Berlin:20251122T230000
DTSTAMP:20260423T024328
CREATED:20250826T221313Z
LAST-MODIFIED:20251022T054142Z
UID:2222-1763841600-1763852400@www.tone-fish.de
SUMMARY:Irish Night - Tone Fish & Friends - Hameln Lalu Traumfabrik
DESCRIPTION:
URL:https://www.tone-fish.de/show/irish-night-tone-fish-friends-hameln-lalu-traumfabrik/
CATEGORIES:Irish Night
END:VEVENT
END:VCALENDAR