BEGIN:VCALENDAR
VERSION:2.0
PRODID:-//Tone Fish - ECPv6.15.20//NONSGML v1.0//EN
CALSCALE:GREGORIAN
METHOD:PUBLISH
X-WR-CALNAME:Tone Fish
X-ORIGINAL-URL:https://www.tone-fish.de
X-WR-CALDESC:Veranstaltungen für Tone Fish
REFRESH-INTERVAL;VALUE=DURATION:PT1H
X-Robots-Tag:noindex
X-PUBLISHED-TTL:PT1H
BEGIN:VTIMEZONE
TZID:Europe/Berlin
BEGIN:DAYLIGHT
TZOFFSETFROM:+0100
TZOFFSETTO:+0200
TZNAME:CEST
DTSTART:20250330T010000
END:DAYLIGHT
BEGIN:STANDARD
TZOFFSETFROM:+0200
TZOFFSETTO:+0100
TZNAME:CET
DTSTART:20251026T010000
END:STANDARD
BEGIN:DAYLIGHT
TZOFFSETFROM:+0100
TZOFFSETTO:+0200
TZNAME:CEST
DTSTART:20260329T010000
END:DAYLIGHT
BEGIN:STANDARD
TZOFFSETFROM:+0200
TZOFFSETTO:+0100
TZNAME:CET
DTSTART:20261025T010000
END:STANDARD
BEGIN:DAYLIGHT
TZOFFSETFROM:+0100
TZOFFSETTO:+0200
TZNAME:CEST
DTSTART:20270328T010000
END:DAYLIGHT
BEGIN:STANDARD
TZOFFSETFROM:+0200
TZOFFSETTO:+0100
TZNAME:CET
DTSTART:20271031T010000
END:STANDARD
END:VTIMEZONE
BEGIN:VEVENT
DTSTART;TZID=Europe/Berlin:20260131T153000
DTEND;TZID=Europe/Berlin:20260131T170000
DTSTAMP:20260422T131914
CREATED:20250827T113718Z
LAST-MODIFIED:20250827T113718Z
UID:2237-1769873400-1769878800@www.tone-fish.de
SUMMARY:OOGE - Eine Insel wehrt sich - Musikalische Lesung mit einem satirischen Roman - Dessau
DESCRIPTION:Eine rasend komi­sche Geschich­te vom Autor des Romans „Quitt“. \nWie­der seziert Ste­fan Gli­witz­ki die Komik und Tra­gik des Lebens und ent­blößt die Mecha­nis­men unse­res Zusammenseins\nCome­dy-Show in Buchform!\nhttps://​www​.omni​no​-ver​lag​.de/​s​h​o​p​/​O​o​g​e​-​R​o​m​a​n​_​E​i​n​-​B​u​c​h​-​v​o​n​-​S​t​e​f​a​n​-​G​l​i​w​i​t​z​k​i​-​1​5​4​.​htm \nDie klei­ne Nord­see­insel Ooge wird von Tou­ris­ten heim­ge­sucht. Ganz Ooge? Nicht ganz. Kan­tig und unbeug­sam weh­ren sich eini­ge kriegs­tüch­ti­ge Hard­core-Insu­la­ner. Rei­sen ist mitt­ler­wei­le zu einer Her­aus­for­de­rung gewor­den. Die tra­di­tio­nel­len Urlaubs­zie­le der Deut­schen sind kaum noch erreich­bar. Gan­ze Kon­ti­nen­te haben sich abge­schot­tet oder wer­den gera­de mili­tä­risch besetzt. Also bleibt nur die Schön­heit des eige­nen Lan­des. Und so kom­men sie eben alle nach: Ooge. Die idyl­li­sche Minia­tur­welt aus Dünen\, Möwen\, zu vie­len son­der­ba­ren Gän­sen und stu­ren Bewoh­nern\, platzt aus allen Näh­ten. Ein­hei­mi­sche und Tou­ris­ten drän­gen sich wie Sar­di­nen in der Dose – mit jeder Men­ge Kon­flikt­po­ten­zi­al. Denn im Ver­hal­tens­re­per­toire der Urlau­ber fin­den sich weder Beschei­den­heit noch Höf­lich­keit\, dafür umso mehr Anspruchs­den­ken und irri­ge Ser­vice­er­war­tun­gen. Doch Ooge\, letz­ter ver­blei­ben­der Sehn­suchts­ort urlaubs­hung­ri­ger Fest­län­der\, macht es Feri­en­gäs­ten schwer\, gemocht\, gedul­det oder auch nur hin­ein­ge­las­sen zu wer­den. Die Insu­la­ner weh­ren sich mit dras­ti­schen und skur­ri­len Maß­nah­men\, ver­stär­ken damit aber unge­wollt die Anzie­hungs­kraft ihrer klei­nen Insel im wei­ten Meer …\nEine rasend komi­sche Geschich­te vom Autor des Romans „Quitt“. Wie­der seziert Ste­fan Gli­witz­ki die Komik und Tra­gik des Lebens\, ent­blößt die Mecha­nis­men unse­res Zusam­men­seins und ver­setzt sei­ne Geschich­te gleich­zei­tig an einen der schöns­ten Urlaubs­or­te der Repu­blik: Ooge. Die Mischung stimmt. Die Spra­che so spitz. Gli­witz­kis Bücher sind Come­dy-Show in Buchform!
URL:https://www.tone-fish.de/show/ooge-eine-insel-wehrt-sich-musikalische-lesung-mit-einem-satirischen-roman-dessau/
CATEGORIES:Musikalische Lesung
END:VEVENT
BEGIN:VEVENT
DTSTART;TZID=Europe/Berlin:20260131T190000
DTEND;TZID=Europe/Berlin:20260131T210000
DTSTAMP:20260422T131914
CREATED:20250827T113954Z
LAST-MODIFIED:20250827T113954Z
UID:2240-1769886000-1769893200@www.tone-fish.de
SUMMARY:Die Liedermacher-Tour - Wader\, Mey & Co. - mit Stefan Gliwitzki/Dessau
DESCRIPTION:WIE WÜRDE JOHNNY CASH HANNES WADER SPIELEN? \nDer Hamel­ner Ste­fan Gli­witz­ki\, den vie­le auch als Band­lea­der\, Sän­ger und Song­wri­ter der Folk-Band „Tone Fish“ und Roman­au­tor (QUITT\, OOGE) ken­nen\, prä­sen­tiert in sei­nem neu­en Solo­pro­gramm deut­sche Lie­der­ma­cher. Genau­er gesagt\, DIE Lie­der­ma­cher\, oft auch als Song­poe­ten bezeich­net\, vor allem Han­nes Wader und Rein­hard Mey\, aber auch ande­re. Kein Kon­zert\, wie jedes ande­re. Cam­pi­no von den Toten Hosen beschreibt Han­nes Wader als “John­ny Cash Deutsch­lands”. Dann kann man sei­ne Lie­der auch so spie­len\, oder? \nSich nicht ein­mi­schen und den Mund hal­ten war nie­mals die Sache die­ser Musi­ker\, die bis heu­te Hel­den und Vor­bil­der für Gene­ra­tio­nen sind. Poe­tisch\, rebel­lisch\, scharf­zün­gig\, iro­nisch\, roman­tisch und immer auf den Punkt. Vie­le Lie­der sind mit den Jah­ren noch bes­ser gewor­den und aktu­el­ler denn je. Ande­re sind unver­gess­li­che Doku­men­te ihrer Zeit. Was alle gemein­sam haben\, sind Mei­nung\, Klar­text und glas­kla­re Botschaften. \nSeit sei­ner Jugend tritt Ste­fan Gli­witz­ki immer wie­der mit deutsch­spra­chi­gen Pro­gram­men auf\, hat dies aber aus Zeit­grün­den in den letz­ten Jah­ren zurück­ge­stellt. „Nun ist es an der Zeit\, die Lie­der die­ser groß­ar­ti­gen Kom­po­nis­ten und Musi­ker wie­der mehr nach vorn zu holen und ihnen eine Büh­ne zu geben. Wir brau­chen sie“\, sagt er. \nAus­zug aus dem Programm:\nCharlie/​Heute hier\, mor­gen dort/​Die Begegnung/​Der Traum vom Frieden/​Gut\, wie­der hier zu sein/​Es gibt Tage\, da wünsch­te ich\, ich wär‘ mein Hund/​Über den Wolken/​Die hei­ße Schlacht am kal­ten Buffet/​Das Schürbeln/​Es zogen einst fünf wil­de Schwäne/…
URL:https://www.tone-fish.de/show/die-liedermacher-tour-wader-mey-co-mit-stefan-gliwitzki-dessau/
CATEGORIES:Liedermacher-Tour
END:VEVENT
END:VCALENDAR