BEGIN:VCALENDAR
VERSION:2.0
PRODID:-//Tone Fish - ECPv6.15.20//NONSGML v1.0//EN
CALSCALE:GREGORIAN
METHOD:PUBLISH
X-ORIGINAL-URL:https://www.tone-fish.de
X-WR-CALDESC:Veranstaltungen für Tone Fish
REFRESH-INTERVAL;VALUE=DURATION:PT1H
X-Robots-Tag:noindex
X-PUBLISHED-TTL:PT1H
BEGIN:VTIMEZONE
TZID:Europe/Berlin
BEGIN:DAYLIGHT
TZOFFSETFROM:+0100
TZOFFSETTO:+0200
TZNAME:CEST
DTSTART:20240331T010000
END:DAYLIGHT
BEGIN:STANDARD
TZOFFSETFROM:+0200
TZOFFSETTO:+0100
TZNAME:CET
DTSTART:20241027T010000
END:STANDARD
BEGIN:DAYLIGHT
TZOFFSETFROM:+0100
TZOFFSETTO:+0200
TZNAME:CEST
DTSTART:20250330T010000
END:DAYLIGHT
BEGIN:STANDARD
TZOFFSETFROM:+0200
TZOFFSETTO:+0100
TZNAME:CET
DTSTART:20251026T010000
END:STANDARD
BEGIN:DAYLIGHT
TZOFFSETFROM:+0100
TZOFFSETTO:+0200
TZNAME:CEST
DTSTART:20260329T010000
END:DAYLIGHT
BEGIN:STANDARD
TZOFFSETFROM:+0200
TZOFFSETTO:+0100
TZNAME:CET
DTSTART:20261025T010000
END:STANDARD
END:VTIMEZONE
BEGIN:VEVENT
DTSTART;TZID=Europe/Berlin:20251219T200000
DTEND;TZID=Europe/Berlin:20251219T220000
DTSTAMP:20260422T144039
CREATED:20250709T085513Z
LAST-MODIFIED:20250709T085513Z
UID:2198-1766174400-1766181600@www.tone-fish.de
SUMMARY:OOGE - Musikalische Lesung mit einer Satire - Kultbahnhof Gifhorn
DESCRIPTION:Die klei­ne Nord­see­insel Ooge ist von Tou­ris­ten heim­ge­sucht. Kan­tig und unbeug­sam weh­ren sich die Hard­core Insu­la­ner gegen das\, was ihnen allen Reich­tum beschert. Das Eiland ist zer­ris­sen zwi­schen der Sehn­sucht nach Ruhe und Unab­hän­gig­keit auf der einen und Wohl­stands­lust auf der ande­ren Sei­te. Die idyl­li­sche Minia­tur­welt aus Dünen\, Möwen\, zu vie­len Gän­sen und stu­ren Bewoh­nern\, platzt längst aus allen Näh­ten. Ein­hei­mi­sche und Tou­ris­ten drän­gen sich wie Sar­di­nen in der Dose – mit jeder Men­ge Kon­flikt­po­ten­zi­al. Im Ver­hal­tens­re­per­toire der Urlau­ber fin­den sich weder Beschei­den­heit noch Höf­lich­keit\, dafür umso mehr Anspruchs­den­ken und irri­ge Ser­vice­er­war­tun­gen. Doch Ooge\, letz­ter ver­blei­ben­der Sehn­suchts­ort urlaubs­hung­ri­ger Fest­län­der\, die in die­se letz­te Bas­ti­on der Unbeug­sam­keit und Unbe­stech­lich­keit ein­drin­gen\, macht es Feri­en­gäs­ten schwer\, gemocht\, gewollt\, gedul­det oder auch nur hin­ein­ge­las­sen zu wer­den. Die Insu­la­ner weh­ren sich mit dras­ti­schen und skur­ri­len Maß­nah­men\, ver­stär­ken damit aber unge­wollt die Anzie­hungs­kraft ihrer Hei­mat. Wie kann das ausgehen? \n 
URL:https://www.tone-fish.de/show/ooge-musikalische-lesung-mit-einer-satire-kultbahnhof-gifhorn/
CATEGORIES:Musikalische Lesung
END:VEVENT
END:VCALENDAR