BEGIN:VCALENDAR
VERSION:2.0
PRODID:-//Tone Fish - ECPv6.15.20//NONSGML v1.0//EN
CALSCALE:GREGORIAN
METHOD:PUBLISH
X-ORIGINAL-URL:https://www.tone-fish.de
X-WR-CALDESC:Veranstaltungen für Tone Fish
REFRESH-INTERVAL;VALUE=DURATION:PT1H
X-Robots-Tag:noindex
X-PUBLISHED-TTL:PT1H
BEGIN:VTIMEZONE
TZID:Europe/Berlin
BEGIN:DAYLIGHT
TZOFFSETFROM:+0100
TZOFFSETTO:+0200
TZNAME:CEST
DTSTART:20250330T010000
END:DAYLIGHT
BEGIN:STANDARD
TZOFFSETFROM:+0200
TZOFFSETTO:+0100
TZNAME:CET
DTSTART:20251026T010000
END:STANDARD
BEGIN:DAYLIGHT
TZOFFSETFROM:+0100
TZOFFSETTO:+0200
TZNAME:CEST
DTSTART:20260329T010000
END:DAYLIGHT
BEGIN:STANDARD
TZOFFSETFROM:+0200
TZOFFSETTO:+0100
TZNAME:CET
DTSTART:20261025T010000
END:STANDARD
BEGIN:DAYLIGHT
TZOFFSETFROM:+0100
TZOFFSETTO:+0200
TZNAME:CEST
DTSTART:20270328T010000
END:DAYLIGHT
BEGIN:STANDARD
TZOFFSETFROM:+0200
TZOFFSETTO:+0100
TZNAME:CET
DTSTART:20271031T010000
END:STANDARD
END:VTIMEZONE
BEGIN:VEVENT
DTSTART;TZID=Europe/Berlin:20260507T190000
DTEND;TZID=Europe/Berlin:20260507T210000
DTSTAMP:20260422T131422
CREATED:20260416T085522Z
LAST-MODIFIED:20260416T085622Z
UID:2570-1778180400-1778187600@www.tone-fish.de
SUMMARY:QUITT- Musikalische Lesung mit einem satirischen Roman - Bad Harburg
DESCRIPTION:
URL:https://www.tone-fish.de/show/quitt-musikalische-lesung-mit-einem-satirischen-roman-bad-harbzrg/
CATEGORIES:Musikalische Lesung
END:VEVENT
BEGIN:VEVENT
DTSTART;TZID=Europe/Berlin:20260508T200000
DTEND;TZID=Europe/Berlin:20260508T220000
DTSTAMP:20260422T131422
CREATED:20250827T120750Z
LAST-MODIFIED:20250827T120750Z
UID:2261-1778270400-1778277600@www.tone-fish.de
SUMMARY:OOGE - Eine Insel wehrt sich - Musikalische Lesung mit einem satirischen Roman - Bad Doberan
DESCRIPTION:Eine rasend komi­sche Geschich­te vom Autor des Romans „Quitt“. \nWie­der seziert Ste­fan Gli­witz­ki die Komik und Tra­gik des Lebens und ent­blößt die Mecha­nis­men unse­res Zusammenseins \nCome­dy-Show in Buchform! \nmehr Infos: https://​www​.omni​no​-ver​lag​.de/​s​h​o​p​/​O​o​g​e​-​R​o​m​a​n​_​E​i​n​-​B​u​c​h​-​v​o​n​-​S​t​e​f​a​n​-​G​l​i​w​i​t​z​k​i​-​1​5​4​.​htm \nDie klei­ne Nord­see­insel Ooge wird von Tou­ris­ten heim­ge­sucht. Ganz Ooge? Nicht ganz. Kan­tig und unbeug­sam weh­ren sich eini­ge kriegs­tüch­ti­ge Hard­core-Insu­la­ner. Rei­sen ist mitt­ler­wei­le zu einer Her­aus­for­de­rung gewor­den. Die tra­di­tio­nel­len Urlaubs­zie­le der Deut­schen sind kaum noch erreich­bar. Gan­ze Kon­ti­nen­te haben sich abge­schot­tet oder wer­den gera­de mili­tä­risch besetzt. Also bleibt nur die Schön­heit des eige­nen Lan­des. Und so kom­men sie eben alle nach: Ooge. Die idyl­li­sche Minia­tur­welt aus Dünen\, Möwen\, zu vie­len son­der­ba­ren Gän­sen und stu­ren Bewoh­nern\, platzt aus allen Näh­ten. Ein­hei­mi­sche und Tou­ris­ten drän­gen sich wie Sar­di­nen in der Dose – mit jeder Men­ge Kon­flikt­po­ten­zi­al. Denn im Ver­hal­tens­re­per­toire der Urlau­ber fin­den sich weder Beschei­den­heit noch Höf­lich­keit\, dafür umso mehr Anspruchs­den­ken und irri­ge Ser­vice­er­war­tun­gen. Doch Ooge\, letz­ter ver­blei­ben­der Sehn­suchts­ort urlaubs­hung­ri­ger Fest­län­der\, macht es Feri­en­gäs­ten schwer\, gemocht\, gedul­det oder auch nur hin­ein­ge­las­sen zu wer­den. Die Insu­la­ner weh­ren sich mit dras­ti­schen und skur­ri­len Maß­nah­men\, ver­stär­ken damit aber unge­wollt die Anzie­hungs­kraft ihrer klei­nen Insel im wei­ten Meer …\nEine rasend komi­sche Geschich­te vom Autor des Romans „Quitt“. Wie­der seziert Ste­fan Gli­witz­ki die Komik und Tra­gik des Lebens\, ent­blößt die Mecha­nis­men unse­res Zusam­men­seins und ver­setzt sei­ne Geschich­te gleich­zei­tig an einen der schöns­ten Urlaubs­or­te der Repu­blik: Ooge. Die Mischung stimmt. Die Spra­che so spitz. Gli­witz­kis Bücher sind Come­dy-Show in Buchform!
URL:https://www.tone-fish.de/show/ooge-eine-insel-wehrt-sich-musikalische-lesung-mit-einem-satirischen-roman-bad-doberan/
CATEGORIES:Musikalische Lesung
END:VEVENT
BEGIN:VEVENT
DTSTART;TZID=Europe/Berlin:20260509T200000
DTEND;TZID=Europe/Berlin:20260509T220000
DTSTAMP:20260422T131423
CREATED:20250827T120852Z
LAST-MODIFIED:20250827T120852Z
UID:2264-1778356800-1778364000@www.tone-fish.de
SUMMARY:Irish Night mit Tone Fish - The Pilgrim`s Tour - Bad Doberan
DESCRIPTION:
URL:https://www.tone-fish.de/show/irish-night-mit-tone-fish-the-pilgrims-tour-bad-doberan/
CATEGORIES:Irish Night
END:VEVENT
BEGIN:VEVENT
DTSTART;TZID=Europe/Berlin:20260521T200000
DTEND;TZID=Europe/Berlin:20260521T220000
DTSTAMP:20260422T131423
CREATED:20260416T085955Z
LAST-MODIFIED:20260416T090019Z
UID:2574-1779393600-1779400800@www.tone-fish.de
SUMMARY:Irish Night mit Tone Fish - Wyk auf Föhr
DESCRIPTION:
URL:https://www.tone-fish.de/show/irish-night-mit-tone-fish-wyk-auf-foehr/
CATEGORIES:Irish Night
END:VEVENT
BEGIN:VEVENT
DTSTART;TZID=Europe/Berlin:20260522T200000
DTEND;TZID=Europe/Berlin:20260522T220000
DTSTAMP:20260422T131423
CREATED:20260416T090118Z
LAST-MODIFIED:20260416T090118Z
UID:2577-1779480000-1779487200@www.tone-fish.de
SUMMARY:Irish Night mit Tone Fish - Sylt/Morsum
DESCRIPTION:
URL:https://www.tone-fish.de/show/irish-night-mit-tone-fish-sylt-morsum/
END:VEVENT
BEGIN:VEVENT
DTSTART;TZID=Europe/Berlin:20260530T190000
DTEND;TZID=Europe/Berlin:20260530T210000
DTSTAMP:20260422T131423
CREATED:20260416T090345Z
LAST-MODIFIED:20260416T090345Z
UID:2580-1780167600-1780174800@www.tone-fish.de
SUMMARY:Musikalische Lesung mit zwei satirischen Romanen - Stefan Gliwitzki - Marl Brassert
DESCRIPTION:
URL:https://www.tone-fish.de/show/musikalische-lesung-mit-zwei-satirischen-romanen-stefan-gliwitzki-marl-brassert/
END:VEVENT
END:VCALENDAR