BEGIN:VCALENDAR
VERSION:2.0
PRODID:-//Tone Fish - ECPv6.15.20//NONSGML v1.0//EN
CALSCALE:GREGORIAN
METHOD:PUBLISH
X-WR-CALNAME:Tone Fish
X-ORIGINAL-URL:https://www.tone-fish.de
X-WR-CALDESC:Veranstaltungen für Tone Fish
REFRESH-INTERVAL;VALUE=DURATION:PT1H
X-Robots-Tag:noindex
X-PUBLISHED-TTL:PT1H
BEGIN:VTIMEZONE
TZID:Europe/Berlin
BEGIN:DAYLIGHT
TZOFFSETFROM:+0100
TZOFFSETTO:+0200
TZNAME:CEST
DTSTART:20260329T010000
END:DAYLIGHT
BEGIN:STANDARD
TZOFFSETFROM:+0200
TZOFFSETTO:+0100
TZNAME:CET
DTSTART:20261025T010000
END:STANDARD
BEGIN:DAYLIGHT
TZOFFSETFROM:+0100
TZOFFSETTO:+0200
TZNAME:CEST
DTSTART:20270328T010000
END:DAYLIGHT
BEGIN:STANDARD
TZOFFSETFROM:+0200
TZOFFSETTO:+0100
TZNAME:CET
DTSTART:20271031T010000
END:STANDARD
BEGIN:DAYLIGHT
TZOFFSETFROM:+0100
TZOFFSETTO:+0200
TZNAME:CEST
DTSTART:20280326T010000
END:DAYLIGHT
BEGIN:STANDARD
TZOFFSETFROM:+0200
TZOFFSETTO:+0100
TZNAME:CET
DTSTART:20281029T010000
END:STANDARD
END:VTIMEZONE
BEGIN:VEVENT
DTSTART;TZID=Europe/Berlin:20270416T193000
DTEND;TZID=Europe/Berlin:20270416T210000
DTSTAMP:20260423T005655
CREATED:20250827T122130Z
LAST-MODIFIED:20250827T122130Z
UID:2280-1807903800-1807909200@www.tone-fish.de
SUMMARY:Die Liedermacher-Tour - Wader\, Mey & Co. - Lastrup
DESCRIPTION:
URL:https://www.tone-fish.de/show/die-liedermacher-tour-wader-mey-co-lastrup/
CATEGORIES:Liedermacher-Tour
END:VEVENT
BEGIN:VEVENT
DTSTART;TZID=Europe/Berlin:20270423T200000
DTEND;TZID=Europe/Berlin:20270423T220000
DTSTAMP:20260423T005655
CREATED:20260416T093030Z
LAST-MODIFIED:20260416T093030Z
UID:2618-1808510400-1808517600@www.tone-fish.de
SUMMARY:Irish Night mit Tone Fish - Hemmingen
DESCRIPTION:
URL:https://www.tone-fish.de/show/irish-night-mit-tone-fish-hemmingen/
CATEGORIES:Irish Night
END:VEVENT
END:VCALENDAR