BEGIN:VCALENDAR
VERSION:2.0
PRODID:-//Tone Fish - ECPv6.15.20//NONSGML v1.0//EN
CALSCALE:GREGORIAN
METHOD:PUBLISH
X-ORIGINAL-URL:https://www.tone-fish.de
X-WR-CALDESC:Veranstaltungen für Tone Fish
REFRESH-INTERVAL;VALUE=DURATION:PT1H
X-Robots-Tag:noindex
X-PUBLISHED-TTL:PT1H
BEGIN:VTIMEZONE
TZID:Europe/Berlin
BEGIN:DAYLIGHT
TZOFFSETFROM:+0100
TZOFFSETTO:+0200
TZNAME:CEST
DTSTART:20240331T010000
END:DAYLIGHT
BEGIN:STANDARD
TZOFFSETFROM:+0200
TZOFFSETTO:+0100
TZNAME:CET
DTSTART:20241027T010000
END:STANDARD
BEGIN:DAYLIGHT
TZOFFSETFROM:+0100
TZOFFSETTO:+0200
TZNAME:CEST
DTSTART:20250330T010000
END:DAYLIGHT
BEGIN:STANDARD
TZOFFSETFROM:+0200
TZOFFSETTO:+0100
TZNAME:CET
DTSTART:20251026T010000
END:STANDARD
BEGIN:DAYLIGHT
TZOFFSETFROM:+0100
TZOFFSETTO:+0200
TZNAME:CEST
DTSTART:20260329T010000
END:DAYLIGHT
BEGIN:STANDARD
TZOFFSETFROM:+0200
TZOFFSETTO:+0100
TZNAME:CET
DTSTART:20261025T010000
END:STANDARD
END:VTIMEZONE
BEGIN:VEVENT
DTSTART;TZID=Europe/Berlin:20250503T200000
DTEND;TZID=Europe/Berlin:20250503T200000
DTSTAMP:20260423T083237
CREATED:20241010T105921Z
LAST-MODIFIED:20250404T101445Z
UID:2007-1746302400-1746302400@www.tone-fish.de
SUMMARY:OOGE- Eine Insel wehrt sich - Musikalische Lesung mit einem satirischen Roman auf Sylt/Morsum
DESCRIPTION:OOGE  Musi­ka­li­sche Lesung\nDie klei­ne Nord­see­insel Ooge ist von Tou­ris­ten heim­ge­sucht. Kan­tig und unbeug­sam weh­ren sich die Hard­core Insu­la­ner gegen das\, was ihnen allen Reich­tum beschert. Das Eiland ist zer­ris­sen zwi­schen der Sehn­sucht nach Ruhe und Unab­hän­gig­keit auf der einen und Wohl­stands­lust auf der ande­ren Sei­te. Die idyl­li­sche Minia­tur­welt aus Dünen\, Möwen\, zu vie­len Gän­sen und stu­ren Bewoh­nern\, platzt längst aus allen Näh­ten. Ein­hei­mi­sche und Tou­ris­ten drän­gen sich wie Sar­di­nen in der Dose – mit jeder Men­ge Kon­flikt­po­ten­zi­al. Im Ver­hal­tens­re­per­toire der Urlau­ber fin­den sich weder Beschei­den­heit noch Höf­lich­keit\, dafür umso mehr Anspruchs­den­ken und irri­ge Ser­vice­er­war­tun­gen. Doch Ooge\, letz­ter ver­blei­ben­der Sehn­suchts­ort urlaubs­hung­ri­ger Fest­län­der\, die in die­se letz­te Bas­ti­on der Unbeug­sam­keit und Unbe­stech­lich­keit ein­drin­gen\, macht es Feri­en­gäs­ten schwer\, gemocht\, gewollt\, gedul­det oder auch nur hin­ein­ge­las­sen zu wer­den. Die Insu­la­ner weh­ren sich mit dras­ti­schen und skur­ri­len Maß­nah­men\, ver­stär­ken damit aber unge­wollt die Anzie­hungs­kraft ihrer Hei­mat. Wie kann das ausgehen?\nÜber­all im Buch­han­del oder unter www​.omni​no​-ver​lag​.de \n#ooge #hoo­ge #gli­witz­ki #omni­no­ver­lag #omnino_​verlag #nord­see #nord­see­lie­be #rei­sen­in­deutsch­land #meer #grönland #insu­la­ner #come­dy­als­buch #wir­kau­fen­ca­li­for­nia\n@Follower @nordseesh @nordsee_official @meer.literatur #insel #wykauf­föhr #wan­ger­oo­ge #nie­büll #dage­büll #balt­rum #bor­kum #nor­der­ney #lan­ge­oog #spie­ker­oog #juist #sylt #hal­lig­hoo­ge #amrum #lan­gen­ess #omni­no­ver­lag #wir­fei­ern­den­nor­den #sati­re #neu­erschei­nung #split­i­den­ti­ty #age­gap #fri­ends #roman
URL:https://www.tone-fish.de/show/quitt-musikalische-lesung-mit-einem-satirischen-roman-auf-sylt-morsum/
LOCATION:Muasem Hüs\, Bi Miiren 17\, Großmorsum\, Schleswig Holstein\, 25980\, Deutschland
CATEGORIES:Musikalische Lesung
END:VEVENT
END:VCALENDAR